BEGIN:VCALENDAR
VERSION:2.0
PRODID:-//Our Heart Hub - ECPv6.15.20//NONSGML v1.0//EN
CALSCALE:GREGORIAN
METHOD:PUBLISH
X-ORIGINAL-URL:https://ourhearthub.ca
X-WR-CALDESC:Events for Our Heart Hub
REFRESH-INTERVAL;VALUE=DURATION:PT1H
X-Robots-Tag:noindex
X-PUBLISHED-TTL:PT1H
BEGIN:VTIMEZONE
TZID:America/Toronto
BEGIN:DAYLIGHT
TZOFFSETFROM:-0500
TZOFFSETTO:-0400
TZNAME:EDT
DTSTART:20200308T070000
END:DAYLIGHT
BEGIN:STANDARD
TZOFFSETFROM:-0400
TZOFFSETTO:-0500
TZNAME:EST
DTSTART:20201101T060000
END:STANDARD
BEGIN:DAYLIGHT
TZOFFSETFROM:-0500
TZOFFSETTO:-0400
TZNAME:EDT
DTSTART:20210314T070000
END:DAYLIGHT
BEGIN:STANDARD
TZOFFSETFROM:-0400
TZOFFSETTO:-0500
TZNAME:EST
DTSTART:20211107T060000
END:STANDARD
BEGIN:DAYLIGHT
TZOFFSETFROM:-0500
TZOFFSETTO:-0400
TZNAME:EDT
DTSTART:20220313T070000
END:DAYLIGHT
BEGIN:STANDARD
TZOFFSETFROM:-0400
TZOFFSETTO:-0500
TZNAME:EST
DTSTART:20221106T060000
END:STANDARD
BEGIN:DAYLIGHT
TZOFFSETFROM:-0500
TZOFFSETTO:-0400
TZNAME:EDT
DTSTART:20230312T070000
END:DAYLIGHT
BEGIN:STANDARD
TZOFFSETFROM:-0400
TZOFFSETTO:-0500
TZNAME:EST
DTSTART:20231105T060000
END:STANDARD
BEGIN:DAYLIGHT
TZOFFSETFROM:-0500
TZOFFSETTO:-0400
TZNAME:EDT
DTSTART:20240310T070000
END:DAYLIGHT
BEGIN:STANDARD
TZOFFSETFROM:-0400
TZOFFSETTO:-0500
TZNAME:EST
DTSTART:20241103T060000
END:STANDARD
BEGIN:DAYLIGHT
TZOFFSETFROM:-0500
TZOFFSETTO:-0400
TZNAME:EDT
DTSTART:20250309T070000
END:DAYLIGHT
BEGIN:STANDARD
TZOFFSETFROM:-0400
TZOFFSETTO:-0500
TZNAME:EST
DTSTART:20251102T060000
END:STANDARD
END:VTIMEZONE
BEGIN:VEVENT
DTSTART;TZID=America/Toronto:20240509T120000
DTEND;TZID=America/Toronto:20240509T130000
DTSTAMP:20260421T054225
CREATED:20240430T170056Z
LAST-MODIFIED:20240430T170056Z
UID:10000072-1715256000-1715259600@ourhearthub.ca
SUMMARY:OCO Webinar: Intimacy & Connection in the Caregiver-Partner Relationship
DESCRIPTION:Caregiving changes so much in how we experience life and our familial relationships. In this webinar\, we will explore the shifts that occur in the dynamics of intimate partner relationships. Often the general caregiving challenges overshadow the deeper relationship needs between the caregiver and care recipient. In observance of Mental Health Week this May\, join Michal Goldstein\, a registered social worker\, and explore how caregivers can manage some of the challenges that arise within this shifting dynamic\, including: \n\nFeelings of isolation and guilt\nChanges in intimacy\nFeelings of disinterest in the relationship\nTools to regain connection and intimacy\n\nOur Speaker: \nMichal Goldstein is a clinical social worker and therapist with 15 years of experience in supporting individuals\, couples\, and families to build stronger and healthier relationships. She is also the owner and founder of Creating Connections Counselling Services\, a virtual therapy practice based in Toronto that helps individuals and families to reconnect and thrive. Michal holds a Bachelor of Arts in Psychology\, Bachelor of Social Work (BSW)\, and Master of Social Work (MSW) degrees. She is a registered social worker with the Ontario College of Social Workers and Social Service Workers (OCSWSSW) and the Ontario Association of Social Workers (OASW). \nAll attendees who complete the post-webinar survey can enter a draw to win an Ontario Caregiver Organization prize. This draw will be held the week following the webinar and is only available to residents of Ontario. Winners will be contacted via email after the draw. \nIn addition\, to those who attend the live event\, we will be holding a live draw for two $25 Everything Card gift cards. (The same rules apply as above.) \nOther Information \n\nPlease note that this presentation is available in English only.\nPour de l’information sur nos programmes et services en français\, visitez www.ontariocaregiver.ca/fr ou communiquez avec nous par courriel à info@ontariocaregiver.ca.\nFor any difficulty with registration or any other questions\, please contact us at info@ontariocaregiver.ca or call 1-888-877-1626 X 1011\n\nREGISTER NOW
URL:https://ourhearthub.ca/event/oco-webinar-intimacy-connection-in-the-caregiver-partner-relationship/
LOCATION:Virtual
END:VEVENT
BEGIN:VEVENT
DTSTART;TZID=America/Toronto:20240229T120000
DTEND;TZID=America/Toronto:20240229T130000
DTSTAMP:20260421T054225
CREATED:20240130T142803Z
LAST-MODIFIED:20240207T145734Z
UID:10000069-1709208000-1709211600@ourhearthub.ca
SUMMARY:Living with Advanced Heart Failure Webinar
DESCRIPTION:Living with Advanced Heart Failure: Coping with Symptoms & UncertaintyA free webinar presented by The Heart Hub and Sinai Health\nAre you living with or caring for someone with advanced heart failure? Are you or the person you care for having difficulty coping with symptoms? Join us virtually as The Heart Hub\, Sinai Health and the Peter Munk Cardiac Centre present our new guide\, Heart Failure at Home: Coping with Symptoms and Uncertainty. \n\n\n\n\nTogether\, we’ll discuss: \n\nManaging common symptoms\nPlanning for the future\nPractical coping strategies\nSelf-care and mental health support\n\nLive Q&A session to follow!When: February 29th 2024\, 12:00pm – 1:00pm ESTWhere: Zoom (link to be provided to registrants)Cost: FreeAll webinar attendees will be entered to win 1 of 4 Heart Hub swag packages!  \nREGISTER FOR THE WEBINAR
URL:https://ourhearthub.ca/event/living-with-advanced-heart-failure-webinar/
LOCATION:Virtual
END:VEVENT
BEGIN:VEVENT
DTSTART;TZID=America/Toronto:20240117T120000
DTEND;TZID=America/Toronto:20240117T130000
DTSTAMP:20260421T054225
CREATED:20240110T155955Z
LAST-MODIFIED:20240110T155955Z
UID:10000066-1705492800-1705496400@ourhearthub.ca
SUMMARY:Patient Partner Opportunity: CIHR Applicant Profile Webinar
DESCRIPTION:REGISTER TODAY
URL:https://ourhearthub.ca/event/patient-partner-opportunity-cihr-applicant-profile-webinar/
LOCATION:Virtual
END:VEVENT
BEGIN:VEVENT
DTSTART;VALUE=DATE:20230929
DTEND;VALUE=DATE:20230930
DTSTAMP:20260421T054225
CREATED:20230901T131356Z
LAST-MODIFIED:20230901T132254Z
UID:10000064-1695945600-1696031999@ourhearthub.ca
SUMMARY:3rd Annual HeartLife Education Day
DESCRIPTION:Engage. Educate. Empower. \nJoin HeartLife’s 3rd Annual E3 Patient Day focused on Engaging\, Educating and Empowering (E3) Canadians and their caregivers who live with heart failure. The FREE event is open to Patients\, Caregivers\, Healthcare Professionals\, Industry Partners\, and the general public. \nWHEN: September 29th\, 2023 from 9am to Noon PDT / Noon to 3pm EDT. \nWHERE: Zoom Webinar – Register at https://heartlife.ca/events/ \nWHO: Patients\, caregivers\, health care professionals\, heart failure community partners\, general public \nSpeakers will provide participants with a comprehensive understanding of key healthcare topics\, fostering collaboration\, empowering patients\, and showcasing innovative tools and methods that contribute to enhanced patient experiences\, holistic well-being\, and improved outcomes. \nSessions throughout the day will cover such topics as: \n\nThe Importance of Mental Health\nGuideline Directed Medical Therapy (Heart Failure Meds)\nInnovative Technology such as wearables\, AI\, and Echo’s.\nThe event will open and close with special guest speakers!\n\nLEARN MORE AND REGISTER TODAY! .
URL:https://ourhearthub.ca/event/264044/
LOCATION:Virtual
END:VEVENT
BEGIN:VEVENT
DTSTART;TZID=America/Toronto:20230620T090000
DTEND;TZID=America/Toronto:20230620T100000
DTSTAMP:20260421T054225
CREATED:20230614T160844Z
LAST-MODIFIED:20230614T160844Z
UID:10000061-1687251600-1687255200@ourhearthub.ca
SUMMARY:HeartLife Foundation: Introductory Webinar for a Mind Body Wellness Program
DESCRIPTION:Join HeartLife for a free 30-minute webinar On June 20th at 9:00 am to learn more about a fun\, evidence-based program to energize your body and reduce anxiety. The Mind Body Wellness Program for Heart Failure will teach you: \n\n\n1. Movement at 3 different levels2. Breathwork and mindfulness practices you can use anywhere!3. Psychology tips and games to learn about how to live your best life while living with heart failure\nClick the link below to register and learn more about how you can get involved in this exciting research. \n\n\nhttps://us02web.zoom.us/webinar/register/WN_auaXDoeSRTebYPmhtIW_WA
URL:https://ourhearthub.ca/event/heartlife-foundation-introductory-webinar-for-a-mind-body-wellness-program/
LOCATION:Virtual
END:VEVENT
BEGIN:VEVENT
DTSTART;VALUE=DATE:20230216
DTEND;VALUE=DATE:20230324
DTSTAMP:20260421T054225
CREATED:20220502T203722Z
LAST-MODIFIED:20221217T165348Z
UID:10000050-1676574000-1679601599@ourhearthub.ca
SUMMARY:Writing the Heart 6-Week Workshop Series - Winter 2023
DESCRIPTION:The Ted Rogers Centre for Heart Research invites any Canadian living with heart failure or heart disease\, as well as heart transplant recipients\, to join our virtual expressive writing workshops. \nBeing diagnosed with heart failure or disease can make you feel as if your world has turned upside down. Powerful emotions come with the diagnosis: fear\, anger\, sadness\, loss—often difficult to express. Writing has been shown to have emotional and physiological benefits to those dealing with life-threatening or chronic conditions\, hardship\, or trauma. \nFacilitated by Sharon Bray\, Ed.D.\, author\, educator and heart failure patient\, the Ted Rogers Centre for Heart Research is hosting a series of virtual workshops where you can learn why\, and how\, writing can be healing\, whether you write alone or with others. \n“As patients\, I think we learn a lot from each other\,” Sharon says. “The workshops build an extraordinary community through story. People realize they’re not alone.” \nWriting the Heart: 6-Week Workshop Series (Virtual)\nEach 90-minute session of this six-part series facilitated by Sharon Bray Ed.D. will be conducted in an atmosphere of safety and support with the same participants each week. Sharon will guide the group with specific writing prompts\, with time allocated for writing and reflection\, as well as sharing of your writing.  \nGroup participants will be encouraged to practice deep active listening and offer supportive feedback on the writing shared. This Expressive Writing series is led by an experienced facilitator and allows participants to write in a supportive environment of a community of people with lived experience of heart disease.  \nNote: Limited to 15 participants and we ask that you commit to attending all sessions.\n\nSix-week series on Thursdays from February 16 to March 23\, 2023 from 1-2:30pm EST \nRegister Now!\nFor more information\, please contact samantha.engbers@uhn.ca.
URL:https://ourhearthub.ca/event/261639/
LOCATION:Virtual
END:VEVENT
BEGIN:VEVENT
DTSTART;VALUE=DATE:20230207
DTEND;VALUE=DATE:20230329
DTSTAMP:20260421T054225
CREATED:20230124T170132Z
LAST-MODIFIED:20230124T170217Z
UID:10000057-1675728000-1680047999@ourhearthub.ca
SUMMARY:Ontario Caregiver Organization SCALE Program
DESCRIPTION:Nurturing mental health and wellness for caregivers – Supporting Caregiver Awareness\, Learning and Empowerment (SCALE) Program\nThe SCALE Program aims to empower caregivers with practical information and skills to focus on their mental health and well-being needs by offering: \n• Weekly psychoeducational webinars (LIVE or RECORDED) are divided into two 4-week sessions (see below for Session 1 and Session 2 topics). You may register for all of Session 1\, Session 2\, or individual webinars to suit your needs.\n• Strategies\, tools\, and resources to better cope with difficult caregiving emotions.\n• Free and confidential online group and/or individual counselling (OPTIONAL). *Space is limited. Registration is based on a first-come\, first-served basis. *If you’re planning to access these services\, it is highly encouraged that you register for the full session of webinars to receive the maximum benefit from group or individual counselling. \n“The counselling was incredible and life-changing…the webinars had the right balance of information and self-directed work. I’ve used the accompanying resources to build my road to wellness. I was able to apply the knowledge\, strategies and tactics to my work-life too. The benefits of the SCALE program brought wellness to all aspects of my being.” – Caregiver \nSESSION 1: UNDERSTANDING THE EMOTIONAL EXPERIENCE OF CAREGIVING FEBRUARY 7 TO 28\, 2023 (Tuesdays from 12 PM to 1PM EST)\nWeek 1: Your caregiving journey\nWeek 2: How caregiving stress affects you\nWeek 3: How caregivers can manage anxiety and anger\nWeek 4: How caregivers can manage sadness and guilt \nSESSION 2: STRATEGIES FOR CAREGIVER MENTAL HEALTH & WELL-BEING MARCH 7 TO 28\, 2023 (Tuesdays from 12 PM to 1PM EST)\nWeek 1: Become a mindful caregiver\nWeek 2: The self-compassionate caregiver\nWeek 3: Find your caregiver strengths\nWeek 4: Time for self-care while caregiving \nSeeing this past FEBRUARY 7\, 2023? You can still sign-up for any of the remaining live webinars! \nREGISTER NOW
URL:https://ourhearthub.ca/event/ontario-caregiver-organization-scale-program/
LOCATION:Virtual
END:VEVENT
BEGIN:VEVENT
DTSTART;TZID=America/Toronto:20220502T190000
DTEND;TZID=America/Toronto:20220502T200000
DTSTAMP:20260421T054225
CREATED:20220419T183546Z
LAST-MODIFIED:20220419T183546Z
UID:10000049-1651518000-1651521600@ourhearthub.ca
SUMMARY:Shaking it Up! The latest on salt and other HF research discoveries
DESCRIPTION:Registrants will be entered to win 1 of 4 Heart Hub T-Shirts! The draw will be held at the end of the event.\n\n\n\n\n\nAbout this event\n\n\nJoin Dr. Heather Ross\, registered dietician Margaret Brum and nurse practitioner Stella Kozuszko for this free patient-moderated session. The webinar will cover innovations in heart failure research\, in particular the latest findings on sodium and diet\, and will also highlight the importance of patient participation in research and ways to get involved. Participants questions and input are welcome. \nPLUS get a sneak preview of the new Ted Rogers Centre for Heart Research patient education site.
URL:https://ourhearthub.ca/event/shaking-it-up-the-latest-on-salt-and-other-hf-research-discoveries/
LOCATION:Virtual
END:VEVENT
BEGIN:VEVENT
DTSTART;VALUE=DATE:20211210
DTEND;VALUE=DATE:20211212
DTSTAMP:20260421T054225
CREATED:20211027T181159Z
LAST-MODIFIED:20220330T021128Z
UID:10000047-1639094400-1639267199@ourhearthub.ca
SUMMARY:Ted Rogers Centre 2021 Heart Failure Symposium
DESCRIPTION:Registration is now open for Canada’s largest conference on heart failure! To register or learn more\, visit the Ted Rogers Centre Heart Failure Symposium webpage.
URL:https://ourhearthub.ca/event/ted-rogers-centre-2021-heart-failure-symposium/
LOCATION:Virtual
END:VEVENT
BEGIN:VEVENT
DTSTART;TZID=America/Toronto:20211014T130000
DTEND;TZID=America/Toronto:20211014T160000
DTSTAMP:20260421T054225
CREATED:20210914T202326Z
LAST-MODIFIED:20210914T202600Z
UID:10000046-1634216400-1634227200@ourhearthub.ca
SUMMARY:ECHO Pitch Competition
DESCRIPTION:Join the Translational Biology and Engineering Program (TBEP) for a special event where five start-ups in the cardiovascular health sector will compete live for up to $250\,000 before a panel of judges and a virtual audience. \nThe five competing teams have been selected from the Entrepreneurship for Cardiovascular Health Opportunities (ECHO) program\, created by TBEP at the University of Toronto and the Ted Rogers Centre for Heart Research\, in partnership with the Health Innovation Hub (H2i). \nWhen: October 14\, 2021 from 1:00-4:00 pm EST\nWhere: Online – all are welcome to be part of the live virtual audience! Visit the event page to learn more and register – space is limited so reserve your spot soon!\nSpecial guest: TRANSFORM HF is pleased to partner with ECHO on a fireside chat with a global health tech leader. Stay tuned for more details!
URL:https://ourhearthub.ca/event/echo-pitch-competition/
LOCATION:Virtual
END:VEVENT
END:VCALENDAR